BEGIN:VCALENDAR
VERSION:2.0
PRODID:-//Plone.org//NONSGML plone.app.event//EN
X-WR-TIMEZONE:Europe/Vienna
BEGIN:VEVENT
SUMMARY:Damenanlass
DTSTART;TZID=Europe/Vienna;VALUE=DATE-TIME:20250911T170000
DTEND;TZID=Europe/Vienna;VALUE=DATE-TIME:20250911T210000
DTSTAMP;VALUE=DATE-TIME:20260420T100437Z
UID:27b7afe9ef834800bd76d020b03f4888@127.0.0.1:10550
CREATED;VALUE=DATE-TIME:20250115T095731Z
DESCRIPTION:Tour de Pain
LAST-MODIFIED;VALUE=DATE-TIME:20250930T124428Z
LOCATION:Stadt Bern und Zunftsaal
URL:https://www.pfistern.ch/anlaesse/termine/damenanlass-1
END:VEVENT
BEGIN:VTIMEZONE
TZID:Europe/Vienna
X-LIC-LOCATION:Europe/Vienna
BEGIN:DAYLIGHT
DTSTART;VALUE=DATE-TIME:20250330T030000
TZNAME:CEST
TZOFFSETFROM:+0100
TZOFFSETTO:+0200
END:DAYLIGHT
END:VTIMEZONE
END:VCALENDAR
