BEGIN:VCALENDAR
VERSION:2.0
PRODID:-//Plone.org//NONSGML plone.app.event//EN
X-WR-TIMEZONE:Europe/Vienna
BEGIN:VEVENT
SUMMARY:Grosses Frühlingsbott
DTSTART;TZID=Europe/Vienna;VALUE=DATE-TIME:20240504T103000
DTEND;TZID=Europe/Vienna;VALUE=DATE-TIME:20240504T143000
DTSTAMP;VALUE=DATE-TIME:20260420T014739Z
UID:7713322170124aecba8f98a342d1363c@127.0.0.1:10250
CREATED;VALUE=DATE-TIME:20230516T152436Z
LAST-MODIFIED;VALUE=DATE-TIME:20250930T124107Z
LOCATION:Nationales Pferdezentrum (NPZ)\, Mingerstrasse 3\, 3014 Bern
URL:https://www.pfistern.ch/anlaesse/termine/grosses-fruehlingsbott-1
END:VEVENT
BEGIN:VTIMEZONE
TZID:Europe/Vienna
X-LIC-LOCATION:Europe/Vienna
BEGIN:DAYLIGHT
DTSTART;VALUE=DATE-TIME:20240331T030000
TZNAME:CEST
TZOFFSETFROM:+0100
TZOFFSETTO:+0200
END:DAYLIGHT
END:VTIMEZONE
END:VCALENDAR
