BEGIN:VCALENDAR
VERSION:2.0
PRODID:-//Plone.org//NONSGML plone.app.event//EN
X-WR-TIMEZONE:Europe/Vienna
BEGIN:VEVENT
SUMMARY:Pfistern-Fest 2022
DTSTART;TZID=Europe/Vienna;VALUE=DATE-TIME:20221022T170000
DTEND;TZID=Europe/Vienna;VALUE=DATE-TIME:20221022T230000
DTSTAMP;VALUE=DATE-TIME:20260420T042243Z
UID:66e34048486843408f43b1d3ac669fcf@127.0.0.1:10250
CREATED;VALUE=DATE-TIME:20230104T131521Z
DESCRIPTION:Roaring Twenties
LAST-MODIFIED;VALUE=DATE-TIME:20250930T124107Z
LOCATION:Casino\, Thaterplatz\, 3011 Bern
URL:https://www.pfistern.ch/anlaesse/termine/pfistern-fest-2022
END:VEVENT
BEGIN:VTIMEZONE
TZID:Europe/Vienna
X-LIC-LOCATION:Europe/Vienna
BEGIN:DAYLIGHT
DTSTART;VALUE=DATE-TIME:20220327T030000
TZNAME:CEST
TZOFFSETFROM:+0100
TZOFFSETTO:+0200
END:DAYLIGHT
END:VTIMEZONE
END:VCALENDAR
