BEGIN:VCALENDAR
VERSION:2.0
PRODID:-//Plone.org//NONSGML plone.app.event//EN
X-WR-TIMEZONE:Europe/Vienna
BEGIN:VEVENT
SUMMARY:Schifferstechen 2024
DTSTART;TZID=Europe/Vienna;VALUE=DATE-TIME:20240817T090000
DTEND;TZID=Europe/Vienna;VALUE=DATE-TIME:20240817T200000
DTSTAMP;VALUE=DATE-TIME:20260419T152545Z
UID:c7ca79db99e343ae96e24254763fa576@127.0.0.1:10550
CREATED;VALUE=DATE-TIME:20240125T131634Z
LAST-MODIFIED;VALUE=DATE-TIME:20250930T124107Z
LOCATION:Schifferstechen 2024\, Matte\, 3011 Bern
URL:https://www.pfistern.ch/anlaesse/termine/schifferstechen-2024
END:VEVENT
BEGIN:VTIMEZONE
TZID:Europe/Vienna
X-LIC-LOCATION:Europe/Vienna
BEGIN:DAYLIGHT
DTSTART;VALUE=DATE-TIME:20240331T030000
TZNAME:CEST
TZOFFSETFROM:+0100
TZOFFSETTO:+0200
END:DAYLIGHT
END:VTIMEZONE
END:VCALENDAR
