BEGIN:VCALENDAR
VERSION:2.0
PRODID:-//Plone.org//NONSGML plone.app.event//EN
X-WR-TIMEZONE:Europe/Vienna
BEGIN:VEVENT
SUMMARY:Seniorenanlass
DTSTART;TZID=Europe/Vienna;VALUE=DATE-TIME:20250115T150000
DTEND;TZID=Europe/Vienna;VALUE=DATE-TIME:20250115T180000
DTSTAMP;VALUE=DATE-TIME:20260419T135815Z
UID:0744676d388d4aea9bd6738d46465a65@127.0.0.1:10550
CREATED;VALUE=DATE-TIME:20250115T093157Z
DESCRIPTION:Vinzenz Bartlome  ist anwesend und erzählt ....
LAST-MODIFIED;VALUE=DATE-TIME:20250930T124514Z
LOCATION:Zunftsaal\, Kramgasse 9\, 3011 Bern
URL:https://www.pfistern.ch/anlaesse/termine/seniorenanlass
END:VEVENT
BEGIN:VTIMEZONE
TZID:Europe/Vienna
X-LIC-LOCATION:Europe/Vienna
BEGIN:STANDARD
DTSTART;VALUE=DATE-TIME:20241027T020000
TZNAME:CET
TZOFFSETFROM:+0200
TZOFFSETTO:+0100
END:STANDARD
END:VTIMEZONE
END:VCALENDAR
