BEGIN:VCALENDAR
VERSION:2.0
PRODID:-//Plone.org//NONSGML plone.app.event//EN
X-WR-TIMEZONE:Europe/Vienna
BEGIN:VEVENT
SUMMARY:Zibelemärit-Zmorge
DTSTART;TZID=Europe/Vienna;VALUE=DATE-TIME:20251124T063000
DTEND;TZID=Europe/Vienna;VALUE=DATE-TIME:20251124T100000
DTSTAMP;VALUE=DATE-TIME:20260419T172438Z
UID:d63d3912b18a431eb4092799b78d7e79@127.0.0.1:10550
CREATED;VALUE=DATE-TIME:20250930T165223Z
LAST-MODIFIED;VALUE=DATE-TIME:20251001T081904Z
LOCATION:Stadt Bern und Zunftsaal\, Kramgasse 9\, 3011 Bern
URL:https://www.pfistern.ch/anlaesse/termine/zibelemaerit-zmorge-1
END:VEVENT
BEGIN:VTIMEZONE
TZID:Europe/Vienna
X-LIC-LOCATION:Europe/Vienna
BEGIN:STANDARD
DTSTART;VALUE=DATE-TIME:20251026T020000
TZNAME:CET
TZOFFSETFROM:+0200
TZOFFSETTO:+0100
END:STANDARD
END:VTIMEZONE
END:VCALENDAR
